BEGIN:VCALENDAR
VERSION:2.0
PRODID:-//Juventus Academy Abu Dhabi - ECPv6.15.20//NONSGML v1.0//EN
CALSCALE:GREGORIAN
METHOD:PUBLISH
X-ORIGINAL-URL:https://juventusacademyad.ae
X-WR-CALDESC:Events for Juventus Academy Abu Dhabi
REFRESH-INTERVAL;VALUE=DURATION:PT1H
X-Robots-Tag:noindex
X-PUBLISHED-TTL:PT1H
BEGIN:VTIMEZONE
TZID:Europe/London
BEGIN:DAYLIGHT
TZOFFSETFROM:+0000
TZOFFSETTO:+0100
TZNAME:BST
DTSTART:20240331T010000
END:DAYLIGHT
BEGIN:STANDARD
TZOFFSETFROM:+0100
TZOFFSETTO:+0000
TZNAME:GMT
DTSTART:20241027T010000
END:STANDARD
BEGIN:DAYLIGHT
TZOFFSETFROM:+0000
TZOFFSETTO:+0100
TZNAME:BST
DTSTART:20250330T010000
END:DAYLIGHT
BEGIN:STANDARD
TZOFFSETFROM:+0100
TZOFFSETTO:+0000
TZNAME:GMT
DTSTART:20251026T010000
END:STANDARD
BEGIN:DAYLIGHT
TZOFFSETFROM:+0000
TZOFFSETTO:+0100
TZNAME:BST
DTSTART:20260329T010000
END:DAYLIGHT
BEGIN:STANDARD
TZOFFSETFROM:+0100
TZOFFSETTO:+0000
TZNAME:GMT
DTSTART:20261025T010000
END:STANDARD
BEGIN:DAYLIGHT
TZOFFSETFROM:+0000
TZOFFSETTO:+0100
TZNAME:BST
DTSTART:20270328T010000
END:DAYLIGHT
BEGIN:STANDARD
TZOFFSETFROM:+0100
TZOFFSETTO:+0000
TZNAME:GMT
DTSTART:20271031T010000
END:STANDARD
END:VTIMEZONE
BEGIN:VEVENT
DTSTART;TZID=Europe/London:20250225T080000
DTEND;TZID=Europe/London:20250331T170000
DTSTAMP:20260423T192248
CREATED:20250225T083901Z
LAST-MODIFIED:20250225T084257Z
UID:1846-1740470400-1743440400@juventusacademyad.ae
SUMMARY:Ramadan schedule 2025
DESCRIPTION:NYU: 4:30-5:30 \nAge categories: All age categories \nRaha school: 4:30-5:30 \nAge categories: All age categories \nReem island: 3.45-5.45 \nAge categories:U6 U8 U10 3:45-4:45\nAge categories:U12 U14 U16 4:45-5:45
URL:https://juventusacademyad.ae/event/ramadan-schedule-2025/
CATEGORIES:Public holiday
END:VEVENT
BEGIN:VEVENT
DTSTART;TZID=Europe/London:20250328T080000
DTEND;TZID=Europe/London:20250404T170000
DTSTAMP:20260423T192248
CREATED:20240826T140458Z
LAST-MODIFIED:20240826T140514Z
UID:1784-1743148800-1743786000@juventusacademyad.ae
SUMMARY:Tentative dates: Juventus Training Experience in Turin
DESCRIPTION:Juventus Training Experience: 28th of March until 4th of April
URL:https://juventusacademyad.ae/event/tentative-dates-juventus-training-experience/
CATEGORIES:Term date
END:VEVENT
BEGIN:VEVENT
DTSTART;VALUE=DATE:20250330
DTEND;VALUE=DATE:20250405
DTSTAMP:20260423T192248
CREATED:20240826T142504Z
LAST-MODIFIED:20250227T061002Z
UID:1804-1743292800-1743811199@juventusacademyad.ae
SUMMARY:Eid Al Fitr 30th of March until 4th of April\, public Holiday. Football sessions resume on March 6th.
DESCRIPTION:Eid Al Fitr 30th of March until 4th of April\, public Holiday. Football sessions resume on March 6th.
URL:https://juventusacademyad.ae/event/eid-al-fitr-2/
CATEGORIES:Public holiday
END:VEVENT
BEGIN:VEVENT
DTSTART;VALUE=DATE:20251202
DTEND;VALUE=DATE:20251204
DTSTAMP:20260423T192248
CREATED:20250702T081441Z
LAST-MODIFIED:20250827T144034Z
UID:1909-1764633600-1764806399@juventusacademyad.ae
SUMMARY:UAE National Day 2-3 December
DESCRIPTION:Public Holiday
URL:https://juventusacademyad.ae/event/uae-national-day-2/
CATEGORIES:Public holiday
END:VEVENT
BEGIN:VEVENT
DTSTART;VALUE=DATE:20251215
DTEND;VALUE=DATE:20251230
DTSTAMP:20260423T192248
CREATED:20250702T082842Z
LAST-MODIFIED:20250702T082842Z
UID:1916-1765756800-1767052799@juventusacademyad.ae
SUMMARY:Winter sessions
DESCRIPTION:December 15th– 29th Winter Sessions TBC
URL:https://juventusacademyad.ae/event/winter-sessions/
CATEGORIES:Term date
END:VEVENT
BEGIN:VEVENT
DTSTART;VALUE=DATE:20260319
DTEND;VALUE=DATE:20260321
DTSTAMP:20260423T192248
CREATED:20250702T082347Z
LAST-MODIFIED:20260128T071409Z
UID:1911-1773878400-1774051199@juventusacademyad.ae
SUMMARY:Eid Al Fitr
DESCRIPTION:Public Holiday\, Eid holiday 19-20 March TBC.
URL:https://juventusacademyad.ae/event/eid-al-fitr-3/
CATEGORIES:Public holiday
END:VEVENT
BEGIN:VEVENT
DTSTART;VALUE=DATE:20260323
DTEND;VALUE=DATE:20260328
DTSTAMP:20260423T192248
CREATED:20250702T082543Z
LAST-MODIFIED:20260128T072616Z
UID:1914-1774224000-1774655999@juventusacademyad.ae
SUMMARY:Spring break
DESCRIPTION:Spring break 23-27 March
URL:https://juventusacademyad.ae/event/springbreak/
CATEGORIES:Holiday
END:VEVENT
BEGIN:VEVENT
DTSTART;VALUE=DATE:20260525
DTEND;VALUE=DATE:20260621
DTSTAMP:20260423T192248
CREATED:20250702T084401Z
LAST-MODIFIED:20250702T084509Z
UID:1921-1779667200-1781999999@juventusacademyad.ae
SUMMARY:Summer Sessions
DESCRIPTION:May 25th– June 20th Summer Sessions TBC
URL:https://juventusacademyad.ae/event/summer-sessions/
CATEGORIES:Term date
END:VEVENT
END:VCALENDAR