BEGIN:VCALENDAR
VERSION:2.0
PRODID:-//Juventus Academy Abu Dhabi - ECPv6.15.20//NONSGML v1.0//EN
CALSCALE:GREGORIAN
METHOD:PUBLISH
X-ORIGINAL-URL:https://juventusacademyad.ae
X-WR-CALDESC:Events for Juventus Academy Abu Dhabi
REFRESH-INTERVAL;VALUE=DURATION:PT1H
X-Robots-Tag:noindex
X-PUBLISHED-TTL:PT1H
BEGIN:VTIMEZONE
TZID:Europe/London
BEGIN:DAYLIGHT
TZOFFSETFROM:+0000
TZOFFSETTO:+0100
TZNAME:BST
DTSTART:20220327T010000
END:DAYLIGHT
BEGIN:STANDARD
TZOFFSETFROM:+0100
TZOFFSETTO:+0000
TZNAME:GMT
DTSTART:20221030T010000
END:STANDARD
BEGIN:DAYLIGHT
TZOFFSETFROM:+0000
TZOFFSETTO:+0100
TZNAME:BST
DTSTART:20230326T010000
END:DAYLIGHT
BEGIN:STANDARD
TZOFFSETFROM:+0100
TZOFFSETTO:+0000
TZNAME:GMT
DTSTART:20231029T010000
END:STANDARD
BEGIN:DAYLIGHT
TZOFFSETFROM:+0000
TZOFFSETTO:+0100
TZNAME:BST
DTSTART:20240331T010000
END:DAYLIGHT
BEGIN:STANDARD
TZOFFSETFROM:+0100
TZOFFSETTO:+0000
TZNAME:GMT
DTSTART:20241027T010000
END:STANDARD
BEGIN:DAYLIGHT
TZOFFSETFROM:+0000
TZOFFSETTO:+0100
TZNAME:BST
DTSTART:20250330T010000
END:DAYLIGHT
BEGIN:STANDARD
TZOFFSETFROM:+0100
TZOFFSETTO:+0000
TZNAME:GMT
DTSTART:20251026T010000
END:STANDARD
BEGIN:DAYLIGHT
TZOFFSETFROM:+0000
TZOFFSETTO:+0100
TZNAME:BST
DTSTART:20260329T010000
END:DAYLIGHT
BEGIN:STANDARD
TZOFFSETFROM:+0100
TZOFFSETTO:+0000
TZNAME:GMT
DTSTART:20261025T010000
END:STANDARD
END:VTIMEZONE
BEGIN:VEVENT
DTSTART;VALUE=DATE:20251215
DTEND;VALUE=DATE:20251230
DTSTAMP:20260422T181433
CREATED:20250702T082842Z
LAST-MODIFIED:20250702T082842Z
UID:1916-1765756800-1767052799@juventusacademyad.ae
SUMMARY:Winter sessions
DESCRIPTION:December 15th– 29th Winter Sessions TBC
URL:https://juventusacademyad.ae/event/winter-sessions/
CATEGORIES:Term date
END:VEVENT
BEGIN:VEVENT
DTSTART;TZID=Europe/London:20250328T080000
DTEND;TZID=Europe/London:20250404T170000
DTSTAMP:20260422T181433
CREATED:20240826T140458Z
LAST-MODIFIED:20240826T140514Z
UID:1784-1743148800-1743786000@juventusacademyad.ae
SUMMARY:Tentative dates: Juventus Training Experience in Turin
DESCRIPTION:Juventus Training Experience: 28th of March until 4th of April
URL:https://juventusacademyad.ae/event/tentative-dates-juventus-training-experience/
CATEGORIES:Term date
END:VEVENT
BEGIN:VEVENT
DTSTART;TZID=Europe/London:20250221T150000
DTEND;TZID=Europe/London:20250221T200000
DTSTAMP:20260422T181433
CREATED:20240826T135945Z
LAST-MODIFIED:20240826T140019Z
UID:1782-1740150000-1740168000@juventusacademyad.ae
SUMMARY:Tentative date: Family day
DESCRIPTION:Family Day: Friday 21st of February 2025
URL:https://juventusacademyad.ae/event/tentative-date-family-day/
CATEGORIES:Term date
END:VEVENT
BEGIN:VEVENT
DTSTART;VALUE=DATE:20240913
DTEND;VALUE=DATE:20240914
DTSTAMP:20260422T181433
CREATED:20240826T135805Z
LAST-MODIFIED:20240826T140852Z
UID:1780-1726185600-1726271999@juventusacademyad.ae
SUMMARY:Starting date: New York University\, Saadiyat Island
DESCRIPTION:New York University\, Saadiyat Island:\nFriday 13th of September 2024
URL:https://juventusacademyad.ae/event/starting-date-new-york-university-saadiyat-island/
LOCATION:Saadiyat\, New York Univercity Abu Dhabi\, Saadiyat\, Abu Dhabi\, United Arab Emirates
CATEGORIES:Term date
END:VEVENT
BEGIN:VEVENT
DTSTART;VALUE=DATE:20240601
DTEND;VALUE=DATE:20240701
DTSTAMP:20260422T181433
CREATED:20230720T155423Z
LAST-MODIFIED:20240601T030638Z
UID:874-1717200000-1719791999@juventusacademyad.ae
SUMMARY:Indoor summer sessions
DESCRIPTION:Dear Parents\, \nWe are happy to announce our upcoming “Summer Sessions” June program\, scheduled every Saturday and Sunday from 6:00 PM to 7:00 PM at the Active Indoor Dome\, Maryah Island. \n(1/6\, 2/6\, 8/6\, 9/6\, 15/6\, 16/6\, 23/6\, 29/6\, 30/6) Kindly note that there will be no session on 22/6. \nTo express your interest and reserve your place\, kindly fill out the survey or contact us directly on Whatsapp\, \nSurvey in Google docs \n 
URL:https://juventusacademyad.ae/event/indoor-summer-sessions/
CATEGORIES:Term date
END:VEVENT
BEGIN:VEVENT
DTSTART;VALUE=DATE:20240517
DTEND;VALUE=DATE:20240518
DTSTAMP:20260422T181433
CREATED:20230720T173023Z
LAST-MODIFIED:20230720T173448Z
UID:883-1715904000-1715990399@juventusacademyad.ae
SUMMARY:Term 2 ends
DESCRIPTION:Term 2 and 23/24 season ends on May 17\, 2024.
URL:https://juventusacademyad.ae/event/term-2-ends/
CATEGORIES:Term date
END:VEVENT
BEGIN:VEVENT
DTSTART;TZID=Europe/London:20240123T080000
DTEND;TZID=Europe/London:20240123T170000
DTSTAMP:20260422T181433
CREATED:20231215T182130Z
LAST-MODIFIED:20231215T182130Z
UID:1458-1705996800-1706029200@juventusacademyad.ae
SUMMARY:Term 2 on Saadiyat starts
DESCRIPTION:Dear parents\, \nKindly note\, our Term 2 in Saadiyat will be from *January 23rd- May 24th* due to special training for the UAE National Team in NYU \nWe apologize for the inconvenience and thank you for your understanding. \n  \nJuventus Academy Team
URL:https://juventusacademyad.ae/event/term-2-on-saadiyat-starts/
CATEGORIES:Term date
END:VEVENT
BEGIN:VEVENT
DTSTART;VALUE=DATE:20240103
DTEND;VALUE=DATE:20240104
DTSTAMP:20260422T181433
CREATED:20230720T172426Z
LAST-MODIFIED:20230720T172426Z
UID:881-1704240000-1704326399@juventusacademyad.ae
SUMMARY:Term 2 starts
DESCRIPTION:Term 2 from 3RD OF JANUARY to 17TH OF MAY. Contact us to find a class near you.
URL:https://juventusacademyad.ae/event/term-2-starts/
CATEGORIES:Term date
END:VEVENT
BEGIN:VEVENT
DTSTART;VALUE=DATE:20231225
DTEND;VALUE=DATE:20231226
DTSTAMP:20260422T181433
CREATED:20231217T121205Z
LAST-MODIFIED:20231217T122631Z
UID:1468-1703462400-1703548799@juventusacademyad.ae
SUMMARY:Winter Camp: Mon 25\, Tues 26\, Fri 29 of Dec.
DESCRIPTION:Dear Parents\, \nWe’re excited to announce the upcoming Juventus Academy Abu Dhabi Winter Camp! The camp will be held at Reem Island Koora Sports and will offer an enriching experience for kids passionate about football. \nCamp Dates: \nMonday 18\, Tuesday 19\, Friday 22 December \nMonday 25\, Tuesday 26\, Friday 29 December \nEach session will run for 60 minutes\, providing a focused and engaging experience for your child. The cost per child for the entire camp is 500 AED.
URL:https://juventusacademyad.ae/event/winter-camp-mon-25-tues-26-fri-29-of-dec/
CATEGORIES:Term date
END:VEVENT
BEGIN:VEVENT
DTSTART;VALUE=DATE:20231218
DTEND;VALUE=DATE:20231219
DTSTAMP:20260422T181433
CREATED:20231217T121349Z
LAST-MODIFIED:20231217T121635Z
UID:1463-1702857600-1702943999@juventusacademyad.ae
SUMMARY:Winter camp\, Mon 18\, Tues 19\, Friday 22 of Dec.
DESCRIPTION:Dear Parents\, \nWe’re excited to announce the upcoming Juventus Academy Abu Dhabi Winter Camp! The camp will be held at Reem Island Koora Sports and will offer an enriching experience for kids passionate about football. \nCamp Dates: \nMonday 18\, Tuesday 19\, Friday 22 December \nMonday 25\, Tuesday 26\, Friday 29 December \nEach session will run for 60 minutes\, providing a focused and engaging experience for your child. The cost per child for the entire camp is 500 AED.
URL:https://juventusacademyad.ae/event/winter-camp/
CATEGORIES:Term date
END:VEVENT
BEGIN:VEVENT
DTSTART;VALUE=DATE:20230904
DTEND;VALUE=DATE:20230905
DTSTAMP:20260422T181433
CREATED:20230716T224530Z
LAST-MODIFIED:20230727T060820Z
UID:482-1693785600-1693871999@juventusacademyad.ae
SUMMARY:Term 1 - Football academy season starts
DESCRIPTION:4TH OF SEPTEMBER-16TH OF DECEMBER \nContact us for a trial near you.
URL:https://juventusacademyad.ae/event/football-academy-season-starts/
CATEGORIES:Term date
END:VEVENT
END:VCALENDAR